BEGIN:VCALENDAR
VERSION:2.0
PRODID:-//Cherry Tree Horbury - ECPv6.15.0.1//NONSGML v1.0//EN
CALSCALE:GREGORIAN
METHOD:PUBLISH
X-WR-CALNAME:Cherry Tree Horbury
X-ORIGINAL-URL:https://thecherrytreehorbury.com
X-WR-CALDESC:Events for Cherry Tree Horbury
REFRESH-INTERVAL;VALUE=DURATION:PT1H
X-Robots-Tag:noindex
X-PUBLISHED-TTL:PT1H
BEGIN:VTIMEZONE
TZID:Europe/London
BEGIN:DAYLIGHT
TZOFFSETFROM:+0000
TZOFFSETTO:+0100
TZNAME:BST
DTSTART:20260329T010000
END:DAYLIGHT
BEGIN:STANDARD
TZOFFSETFROM:+0100
TZOFFSETTO:+0000
TZNAME:GMT
DTSTART:20261025T010000
END:STANDARD
END:VTIMEZONE
BEGIN:VEVENT
DTSTART;TZID=Europe/London:20261001T200000
DTEND;TZID=Europe/London:20261001T220000
DTSTAMP:20260419T233326
CREATED:20260204T154622Z
LAST-MODIFIED:20260204T154622Z
UID:4632-1790884800-1790892000@thecherrytreehorbury.com
SUMMARY:Quiz Night
DESCRIPTION:
URL:https://thecherrytreehorbury.com/event/quiz-night-67/
CATEGORIES:Quiz Night
END:VEVENT
BEGIN:VEVENT
DTSTART;TZID=Europe/London:20261008T200000
DTEND;TZID=Europe/London:20261008T220000
DTSTAMP:20260419T233326
CREATED:20260204T160303Z
LAST-MODIFIED:20260204T160303Z
UID:4634-1791489600-1791496800@thecherrytreehorbury.com
SUMMARY:Open Mic
DESCRIPTION:
URL:https://thecherrytreehorbury.com/event/open-mic-70/
CATEGORIES:Open Mic
END:VEVENT
BEGIN:VEVENT
DTSTART;TZID=Europe/London:20261015T200000
DTEND;TZID=Europe/London:20261015T220000
DTSTAMP:20260419T233326
CREATED:20260204T160326Z
LAST-MODIFIED:20260204T160326Z
UID:4636-1792094400-1792101600@thecherrytreehorbury.com
SUMMARY:Quiz Night
DESCRIPTION:
URL:https://thecherrytreehorbury.com/event/quiz-night-68/
CATEGORIES:Quiz Night
END:VEVENT
BEGIN:VEVENT
DTSTART;TZID=Europe/London:20261022T200000
DTEND;TZID=Europe/London:20261022T220000
DTSTAMP:20260419T233326
CREATED:20260204T161739Z
LAST-MODIFIED:20260204T161739Z
UID:4638-1792699200-1792706400@thecherrytreehorbury.com
SUMMARY:Open Mic
DESCRIPTION:
URL:https://thecherrytreehorbury.com/event/open-mic-71/
CATEGORIES:Open Mic
END:VEVENT
BEGIN:VEVENT
DTSTART;TZID=Europe/London:20261029T200000
DTEND;TZID=Europe/London:20261029T220000
DTSTAMP:20260419T233326
CREATED:20260204T161805Z
LAST-MODIFIED:20260204T161805Z
UID:4640-1793304000-1793311200@thecherrytreehorbury.com
SUMMARY:Quiz Night
DESCRIPTION:
URL:https://thecherrytreehorbury.com/event/quiz-night-69/
CATEGORIES:Quiz Night
END:VEVENT
END:VCALENDAR