BEGIN:VCALENDAR
VERSION:2.0
PRODID:-//Cherry Tree Horbury - ECPv6.15.0.1//NONSGML v1.0//EN
CALSCALE:GREGORIAN
METHOD:PUBLISH
X-ORIGINAL-URL:https://thecherrytreehorbury.com
X-WR-CALDESC:Events for Cherry Tree Horbury
REFRESH-INTERVAL;VALUE=DURATION:PT1H
X-Robots-Tag:noindex
X-PUBLISHED-TTL:PT1H
BEGIN:VTIMEZONE
TZID:Europe/London
BEGIN:DAYLIGHT
TZOFFSETFROM:+0000
TZOFFSETTO:+0100
TZNAME:BST
DTSTART:20240331T010000
END:DAYLIGHT
BEGIN:STANDARD
TZOFFSETFROM:+0100
TZOFFSETTO:+0000
TZNAME:GMT
DTSTART:20241027T010000
END:STANDARD
BEGIN:DAYLIGHT
TZOFFSETFROM:+0000
TZOFFSETTO:+0100
TZNAME:BST
DTSTART:20250330T010000
END:DAYLIGHT
BEGIN:STANDARD
TZOFFSETFROM:+0100
TZOFFSETTO:+0000
TZNAME:GMT
DTSTART:20251026T010000
END:STANDARD
END:VTIMEZONE
BEGIN:VEVENT
DTSTART;TZID=Europe/London:20241025T193000
DTEND;TZID=Europe/London:20241025T220000
DTSTAMP:20260422T232557
CREATED:20240813T073510Z
LAST-MODIFIED:20240813T073510Z
UID:3694-1729884600-1729893600@thecherrytreehorbury.com
SUMMARY:Audio Cartel - Live Band
DESCRIPTION:LIVE MUSIC FROM AUDIO CARTEL! \nWith bands playing Friday and an acoustic session Saturday\, so make sure you come and join us if you love live music.
URL:https://thecherrytreehorbury.com/event/audio-cartel-live-band-2/
CATEGORIES:Live Band Music
END:VEVENT
BEGIN:VEVENT
DTSTART;TZID=Europe/London:20241101T193000
DTEND;TZID=Europe/London:20241101T220000
DTSTAMP:20260422T232557
CREATED:20240918T132819Z
LAST-MODIFIED:20240918T132819Z
UID:3708-1730489400-1730498400@thecherrytreehorbury.com
SUMMARY:Platinum - Live Band
DESCRIPTION:LIVE MUSIC FROM PLATINUM! \nWith bands playing Friday and an acoustic session Saturday\, so make sure you come and join us if you love live music.
URL:https://thecherrytreehorbury.com/event/platinum-live-band-2/
CATEGORIES:Live Band Music
END:VEVENT
BEGIN:VEVENT
DTSTART;TZID=Europe/London:20241108T193000
DTEND;TZID=Europe/London:20241108T220000
DTSTAMP:20260422T232557
CREATED:20240918T133114Z
LAST-MODIFIED:20241109T142740Z
UID:3712-1731094200-1731103200@thecherrytreehorbury.com
SUMMARY:Broken Amps - Live Band
DESCRIPTION:In a change to the advertised band tonight\, we will now be joined for LIVE MUSIC FROM BROKEN AMPS!\n\n\n\nTime for live music again tonight\, and this week we are happy to welcome back to The Cherry Tree… BROKEN AMPS! The live music is due to start from 7:30pm.
URL:https://thecherrytreehorbury.com/event/broken-amps-live-band-3/
CATEGORIES:Live Band Music
END:VEVENT
BEGIN:VEVENT
DTSTART;TZID=Europe/London:20241115T193000
DTEND;TZID=Europe/London:20241115T220000
DTSTAMP:20260422T232557
CREATED:20240918T133335Z
LAST-MODIFIED:20240918T133335Z
UID:3716-1731699000-1731708000@thecherrytreehorbury.com
SUMMARY:Rewind - Live Band
DESCRIPTION:LIVE MUSIC FROM REWIND! \nWith bands playing Friday and an acoustic session Saturday\, so make sure you come and join us if you love live music.
URL:https://thecherrytreehorbury.com/event/rewind-live-band/
CATEGORIES:Live Band Music
END:VEVENT
BEGIN:VEVENT
DTSTART;TZID=Europe/London:20241122T193000
DTEND;TZID=Europe/London:20241122T220000
DTSTAMP:20260422T232557
CREATED:20240918T133559Z
LAST-MODIFIED:20241119T082619Z
UID:3720-1732303800-1732312800@thecherrytreehorbury.com
SUMMARY:Live Band - WIRED
DESCRIPTION:LIVE MUSIC FROM WIRED! \nWith bands playing Friday and an acoustic session Saturday\, so make sure you come and join us if you love live music.
URL:https://thecherrytreehorbury.com/event/live-band-into-the-pacific/
CATEGORIES:Live Band Music
END:VEVENT
BEGIN:VEVENT
DTSTART;TZID=Europe/London:20241129T193000
DTEND;TZID=Europe/London:20241129T220000
DTSTAMP:20260422T232557
CREATED:20240918T133716Z
LAST-MODIFIED:20240918T133716Z
UID:3724-1732908600-1732917600@thecherrytreehorbury.com
SUMMARY:Live Band - UnderGroove
DESCRIPTION:LIVE MUSIC FROM UNDERGROOVE! \nWith bands playing Friday and an acoustic session Saturday\, so make sure you come and join us if you love live music.
URL:https://thecherrytreehorbury.com/event/live-band-undergroove/
CATEGORIES:Live Band Music
END:VEVENT
BEGIN:VEVENT
DTSTART;TZID=Europe/London:20241206T193000
DTEND;TZID=Europe/London:20241206T220000
DTSTAMP:20260422T232557
CREATED:20240918T133749Z
LAST-MODIFIED:20240918T133749Z
UID:3726-1733513400-1733522400@thecherrytreehorbury.com
SUMMARY:Live Band - Pac Band
DESCRIPTION:LIVE MUSIC FROM PAC BAND! \nWith bands playing Friday and an acoustic session Saturday\, so make sure you come and join us if you love live music.
URL:https://thecherrytreehorbury.com/event/live-band-pac-band/
CATEGORIES:Live Band Music
END:VEVENT
BEGIN:VEVENT
DTSTART;TZID=Europe/London:20241213T193000
DTEND;TZID=Europe/London:20241213T220000
DTSTAMP:20260422T232557
CREATED:20240918T133955Z
LAST-MODIFIED:20240918T133955Z
UID:3732-1734118200-1734127200@thecherrytreehorbury.com
SUMMARY:Live Band - The Civilians
DESCRIPTION:LIVE MUSIC FROM THE CIVILIANS! \nWith bands playing Friday and an acoustic session Saturday\, so make sure you come and join us if you love live music.
URL:https://thecherrytreehorbury.com/event/live-band-the-civilians/
CATEGORIES:Live Band Music
END:VEVENT
BEGIN:VEVENT
DTSTART;TZID=Europe/London:20241220T193000
DTEND;TZID=Europe/London:20241220T220000
DTSTAMP:20260422T232557
CREATED:20240918T134115Z
LAST-MODIFIED:20240918T134115Z
UID:3736-1734723000-1734732000@thecherrytreehorbury.com
SUMMARY:Live Band - Minor Inconvenience
DESCRIPTION:LIVE MUSIC FROM MINOR INCONVENIENCE! \nWith bands playing Friday and an acoustic session Saturday\, so make sure you come and join us if you love live music.
URL:https://thecherrytreehorbury.com/event/live-band-minor-inconvenience/
CATEGORIES:Live Band Music
END:VEVENT
BEGIN:VEVENT
DTSTART;TZID=Europe/London:20241227T193000
DTEND;TZID=Europe/London:20241227T220000
DTSTAMP:20260422T232557
CREATED:20240918T134221Z
LAST-MODIFIED:20240918T134221Z
UID:3740-1735327800-1735336800@thecherrytreehorbury.com
SUMMARY:Live Band - Storm
DESCRIPTION:LIVE MUSIC FROM STORM! \nWith bands playing Friday and an acoustic session Saturday\, so make sure you come and join us if you love live music.
URL:https://thecherrytreehorbury.com/event/live-band-storm/
CATEGORIES:Live Band Music
END:VEVENT
BEGIN:VEVENT
DTSTART;VALUE=DATE:20241231
DTEND;VALUE=DATE:20250101
DTSTAMP:20260422T232557
CREATED:20240927T083231Z
LAST-MODIFIED:20240927T083241Z
UID:3760-1735603200-1735689599@thecherrytreehorbury.com
SUMMARY:New Years Eve Party - Band - Radio Dreams.
DESCRIPTION:Lets end the year with a BANG with the band Radio Dreams!! \nCome to our venue for the ultimate end to 2024! and welcome in 2025!
URL:https://thecherrytreehorbury.com/event/new-years-eve-party-band-radio-dreams/
CATEGORIES:Live Band Music,Special Evening
END:VEVENT
BEGIN:VEVENT
DTSTART;TZID=Europe/London:20250103T193000
DTEND;TZID=Europe/London:20250103T220000
DTSTAMP:20260422T232557
CREATED:20250102T083631Z
LAST-MODIFIED:20250102T083631Z
UID:3791-1735932600-1735941600@thecherrytreehorbury.com
SUMMARY:Feel Good Foundation - Live Band
DESCRIPTION:LIVE MUSIC FROM FEEL GOOD FOUNDATION! \nWith bands playing Friday and an acoustic session Saturday\, so make sure you come and join us if you love live music.
URL:https://thecherrytreehorbury.com/event/feel-good-foundation-live-band/
CATEGORIES:Live Band Music
END:VEVENT
BEGIN:VEVENT
DTSTART;TZID=Europe/London:20250110T193000
DTEND;TZID=Europe/London:20250110T220000
DTSTAMP:20260422T232557
CREATED:20250102T083907Z
LAST-MODIFIED:20250102T083907Z
UID:3795-1736537400-1736546400@thecherrytreehorbury.com
SUMMARY:Wired - Live Band
DESCRIPTION:LIVE MUSIC FROM WIRED! \nWith bands playing Friday and an acoustic session Saturday\, so make sure you come and join us if you love live music.
URL:https://thecherrytreehorbury.com/event/wired-live-band-2/
CATEGORIES:Live Band Music
END:VEVENT
BEGIN:VEVENT
DTSTART;TZID=Europe/London:20250117T193000
DTEND;TZID=Europe/London:20250117T220000
DTSTAMP:20260422T232557
CREATED:20250102T084344Z
LAST-MODIFIED:20250102T084344Z
UID:3801-1737142200-1737151200@thecherrytreehorbury.com
SUMMARY:Rewind - Live Band
DESCRIPTION:MORE LIVE MUSIC THIS SATURDAY! \nWith bands playing Friday and an acoustic session Saturday\, so make sure you come and join us if you love live music.
URL:https://thecherrytreehorbury.com/event/rewind-live-band-2/
CATEGORIES:Live Band Music
END:VEVENT
BEGIN:VEVENT
DTSTART;TZID=Europe/London:20250124T200000
DTEND;TZID=Europe/London:20250124T223000
DTSTAMP:20260422T232557
CREATED:20250102T084515Z
LAST-MODIFIED:20250123T094359Z
UID:3805-1737748800-1737757800@thecherrytreehorbury.com
SUMMARY:Rag & Bone/Teddy Swims Night
DESCRIPTION:LIVE TRIBUTE ACT THIS FRIDAY! \nCome and enjoy Rag’n’Bone Man / Teddy Swims tribute act this Friday\, so make sure you come and join us if you love live music.
URL:https://thecherrytreehorbury.com/event/undergroove-live-band-3/
CATEGORIES:Live Band Music
END:VEVENT
BEGIN:VEVENT
DTSTART;TZID=Europe/London:20250131T200000
DTEND;TZID=Europe/London:20250131T220000
DTSTAMP:20260422T232557
CREATED:20250102T084754Z
LAST-MODIFIED:20250113T145600Z
UID:3811-1738353600-1738360800@thecherrytreehorbury.com
SUMMARY:STORM - Live Band
DESCRIPTION:MORE LIVE MUSIC THIS SATURDAY! \nWith bands playing Friday and an acoustic session Saturday\, so make sure you come and join us if you love live music.
URL:https://thecherrytreehorbury.com/event/direct-live-band/
CATEGORIES:Live Band Music
END:VEVENT
BEGIN:VEVENT
DTSTART;TZID=Europe/London:20250207T193000
DTEND;TZID=Europe/London:20250207T220000
DTSTAMP:20260422T232557
CREATED:20250113T145755Z
LAST-MODIFIED:20250113T145755Z
UID:3921-1738956600-1738965600@thecherrytreehorbury.com
SUMMARY:KILLING TIME - Live Band
DESCRIPTION:MORE LIVE MUSIC THIS FRIDAY! \nWith bands playing Friday and an acoustic session Saturday\, so make sure you come and join us if you love live music.
URL:https://thecherrytreehorbury.com/event/killing-time-live-band/
CATEGORIES:Live Band Music
END:VEVENT
BEGIN:VEVENT
DTSTART;TZID=Europe/London:20250207T200000
DTEND;TZID=Europe/London:20250207T220000
DTSTAMP:20260422T232557
CREATED:20250121T083549Z
LAST-MODIFIED:20250121T083549Z
UID:3998-1738958400-1738965600@thecherrytreehorbury.com
SUMMARY:God Bless the Band - Live Band
DESCRIPTION:MORE LIVE MUSIC THIS FRIDAY! \nWith bands playing Friday and an acoustic session Saturday\, so make sure you come and join us if you love live music.
URL:https://thecherrytreehorbury.com/event/god-bless-the-band-live-band/
CATEGORIES:Live Band Music
END:VEVENT
BEGIN:VEVENT
DTSTART;TZID=Europe/London:20250214T200000
DTEND;TZID=Europe/London:20250214T220000
DTSTAMP:20260422T232557
CREATED:20250121T084123Z
LAST-MODIFIED:20250212T092259Z
UID:4009-1739563200-1739570400@thecherrytreehorbury.com
SUMMARY:Rising Again - Live Band
DESCRIPTION:MORE LIVE MUSIC THIS FRIDAY! \nWith bands playing Friday and an acoustic session Saturday\, so make sure you come and join us if you love live music.
URL:https://thecherrytreehorbury.com/event/rising-again-live-band/
CATEGORIES:Live Band Music
ATTACH;FMTTYPE=image/jpeg:https://thecherrytreehorbury.com/wp-content/uploads/2025/01/476720346_1182051577259808_287477336598958017_n.jpg
END:VEVENT
BEGIN:VEVENT
DTSTART;TZID=Europe/London:20250221T200000
DTEND;TZID=Europe/London:20250221T220000
DTSTAMP:20260422T232557
CREATED:20250121T084157Z
LAST-MODIFIED:20250121T084157Z
UID:4011-1740168000-1740175200@thecherrytreehorbury.com
SUMMARY:The Broken Amps - Live Band
DESCRIPTION:MORE LIVE MUSIC THIS FRIDAY! \nWith bands playing Friday and an acoustic session Saturday\, so make sure you come and join us if you love live music.
URL:https://thecherrytreehorbury.com/event/the-broken-amps-live-band/
CATEGORIES:Live Band Music
END:VEVENT
BEGIN:VEVENT
DTSTART;TZID=Europe/London:20250228T193000
DTEND;TZID=Europe/London:20250228T220000
DTSTAMP:20260422T232557
CREATED:20250113T145841Z
LAST-MODIFIED:20250113T145903Z
UID:3923-1740771000-1740780000@thecherrytreehorbury.com
SUMMARY:PAC BAND - Live Band
DESCRIPTION:MORE LIVE MUSIC THIS FRIDAY! \nWith bands playing Friday and an acoustic session Saturday\, so make sure you come and join us if you love live music.
URL:https://thecherrytreehorbury.com/event/pac-band-live-band-2/
CATEGORIES:Live Band Music
END:VEVENT
BEGIN:VEVENT
DTSTART;TZID=Europe/London:20250307T200000
DTEND;TZID=Europe/London:20250307T220000
DTSTAMP:20260422T232557
CREATED:20250211T151921Z
LAST-MODIFIED:20250211T151921Z
UID:4048-1741377600-1741384800@thecherrytreehorbury.com
SUMMARY:Coanda Effect - LIVE BAND
DESCRIPTION:MORE LIVE MUSIC THIS FRIDAY! \nWith bands playing Friday and an acoustic session Saturday\, so make sure you come and join us if you love live music.
URL:https://thecherrytreehorbury.com/event/coanda-effect-live-band-2/
CATEGORIES:Live Band Music
END:VEVENT
BEGIN:VEVENT
DTSTART;TZID=Europe/London:20250314T200000
DTEND;TZID=Europe/London:20250314T220000
DTSTAMP:20260422T232557
CREATED:20250211T152437Z
LAST-MODIFIED:20250211T152437Z
UID:4055-1741982400-1741989600@thecherrytreehorbury.com
SUMMARY:3 Fall - Live Band
DESCRIPTION:MORE LIVE MUSIC THIS FRIDAY! \nWith bands playing Friday and an acoustic session Saturday\, so make sure you come and join us if you love live music.
URL:https://thecherrytreehorbury.com/event/3-fall-live-band/
CATEGORIES:Live Band Music
END:VEVENT
BEGIN:VEVENT
DTSTART;TZID=Europe/London:20250321T200000
DTEND;TZID=Europe/London:20250321T220000
DTSTAMP:20260422T232557
CREATED:20250211T153522Z
LAST-MODIFIED:20250211T153522Z
UID:4063-1742587200-1742594400@thecherrytreehorbury.com
SUMMARY:Audio Cartel - Live Band
DESCRIPTION:MORE LIVE MUSIC THIS FRIDAY! \nWith bands playing Friday and an acoustic session Saturday\, so make sure you come and join us if you love live music.
URL:https://thecherrytreehorbury.com/event/audio-cartel-live-band-3/
CATEGORIES:Live Band Music
END:VEVENT
BEGIN:VEVENT
DTSTART;TZID=Europe/London:20250328T200000
DTEND;TZID=Europe/London:20250328T220000
DTSTAMP:20260422T232557
CREATED:20250211T153650Z
LAST-MODIFIED:20250211T153650Z
UID:4067-1743192000-1743199200@thecherrytreehorbury.com
SUMMARY:REWIND - Live Band
DESCRIPTION:MORE LIVE MUSIC THIS FRIDAY! \nWith bands playing Friday and an acoustic session Saturday\, so make sure you come and join us if you love live music.
URL:https://thecherrytreehorbury.com/event/rewind-live-band-3/
CATEGORIES:Live Band Music
END:VEVENT
BEGIN:VEVENT
DTSTART;TZID=Europe/London:20250404T190000
DTEND;TZID=Europe/London:20250404T220000
DTSTAMP:20260422T232557
CREATED:20250113T150047Z
LAST-MODIFIED:20250113T150047Z
UID:3925-1743793200-1743804000@thecherrytreehorbury.com
SUMMARY:PLATINUM - Live Band
DESCRIPTION:MORE LIVE MUSIC THIS FRIDAY! \nWith bands playing Friday and an acoustic session Saturday\, so make sure you come and join us if you love live music.
URL:https://thecherrytreehorbury.com/event/platinum-live-band-3/
CATEGORIES:Live Band Music
END:VEVENT
BEGIN:VEVENT
DTSTART;TZID=Europe/London:20250411T200000
DTEND;TZID=Europe/London:20250411T220000
DTSTAMP:20260422T232557
CREATED:20250211T160433Z
LAST-MODIFIED:20250211T160433Z
UID:4073-1744401600-1744408800@thecherrytreehorbury.com
SUMMARY:Micky Duo - Live Band
DESCRIPTION:MORE LIVE MUSIC THIS FRIDAY! \nWith bands playing Friday and an acoustic session Saturday\, so make sure you come and join us between 20:00 – 22:00 if you love live music.
URL:https://thecherrytreehorbury.com/event/micky-duo-live-band/
CATEGORIES:Live Band Music
END:VEVENT
BEGIN:VEVENT
DTSTART;TZID=Europe/London:20250418T200000
DTEND;TZID=Europe/London:20250418T220000
DTSTAMP:20260422T232557
CREATED:20250211T160603Z
LAST-MODIFIED:20250211T160603Z
UID:4077-1745006400-1745013600@thecherrytreehorbury.com
SUMMARY:The Latoyas - Live Band
DESCRIPTION:MORE LIVE MUSIC THIS FRIDAY! \nWith bands playing Friday and an acoustic session Saturday\, so make sure you come and join us between 20:00 – 22:00 if you love live music.
URL:https://thecherrytreehorbury.com/event/the-latoyas-live-band/
CATEGORIES:Live Band Music
END:VEVENT
BEGIN:VEVENT
DTSTART;TZID=Europe/London:20250425T200000
DTEND;TZID=Europe/London:20250425T220000
DTSTAMP:20260422T232557
CREATED:20250211T160855Z
LAST-MODIFIED:20250211T160855Z
UID:4081-1745611200-1745618400@thecherrytreehorbury.com
SUMMARY:Wired - Live Band
DESCRIPTION:MORE LIVE MUSIC THIS FRIDAY! \nWith bands playing Friday and an acoustic session Saturday\, so make sure you come and join us between 20:00 – 22:00 if you love live music.
URL:https://thecherrytreehorbury.com/event/wired-live-band-3/
CATEGORIES:Live Band Music
END:VEVENT
BEGIN:VEVENT
DTSTART;TZID=Europe/London:20250502T200000
DTEND;TZID=Europe/London:20250502T220000
DTSTAMP:20260422T232557
CREATED:20250211T161141Z
LAST-MODIFIED:20250211T161141Z
UID:4083-1746216000-1746223200@thecherrytreehorbury.com
SUMMARY:Hangover Heroes - Live Band
DESCRIPTION:MORE LIVE MUSIC THIS FRIDAY! \nWith bands playing Friday and an acoustic session Saturday\, so make sure you come and join us between 20:00 – 22:00 if you love live music.
URL:https://thecherrytreehorbury.com/event/hangover-heroes-live-band/
CATEGORIES:Live Band Music
END:VEVENT
END:VCALENDAR