BEGIN:VCALENDAR
VERSION:2.0
PRODID:-//Cherry Tree Horbury - ECPv6.15.0.1//NONSGML v1.0//EN
CALSCALE:GREGORIAN
METHOD:PUBLISH
X-ORIGINAL-URL:https://thecherrytreehorbury.com
X-WR-CALDESC:Events for Cherry Tree Horbury
REFRESH-INTERVAL;VALUE=DURATION:PT1H
X-Robots-Tag:noindex
X-PUBLISHED-TTL:PT1H
BEGIN:VTIMEZONE
TZID:Europe/London
BEGIN:DAYLIGHT
TZOFFSETFROM:+0000
TZOFFSETTO:+0100
TZNAME:BST
DTSTART:20250330T010000
END:DAYLIGHT
BEGIN:STANDARD
TZOFFSETFROM:+0100
TZOFFSETTO:+0000
TZNAME:GMT
DTSTART:20251026T010000
END:STANDARD
END:VTIMEZONE
BEGIN:VEVENT
DTSTART;TZID=Europe/London:20250613T200000
DTEND;TZID=Europe/London:20250613T220000
DTSTAMP:20260422T030330
CREATED:20250521T111528Z
LAST-MODIFIED:20250521T111528Z
UID:4295-1749844800-1749852000@thecherrytreehorbury.com
SUMMARY:Undergroove - Live Band
DESCRIPTION:MORE LIVE MUSIC THIS FRIDAY! \nWith bands playing Friday and an acoustic session Saturday\, so make sure you come and join us between 20:00 – 22:00 if you love live music.
URL:https://thecherrytreehorbury.com/event/undergroove-live-band-5/
CATEGORIES:Live Band Music
END:VEVENT
BEGIN:VEVENT
DTSTART;TZID=Europe/London:20250620T200000
DTEND;TZID=Europe/London:20250620T220000
DTSTAMP:20260422T030330
CREATED:20250414T090735Z
LAST-MODIFIED:20250609T140211Z
UID:4275-1750449600-1750456800@thecherrytreehorbury.com
SUMMARY:RYAN PIERREPONT DUO  - LIVE BAND
DESCRIPTION:MORE LIVE MUSIC THIS FRIDAY! \nWith bands playing Friday and an acoustic session Saturday\, so make sure you come and join us between 20:00 – 22:00 if you love live music.
URL:https://thecherrytreehorbury.com/event/wizards-cuff-live-band/
CATEGORIES:Live Band Music
END:VEVENT
BEGIN:VEVENT
DTSTART;TZID=Europe/London:20250627T193000
DTEND;TZID=Europe/London:20250627T220000
DTSTAMP:20260422T030330
CREATED:20250113T150342Z
LAST-MODIFIED:20250609T140431Z
UID:3933-1751052600-1751061600@thecherrytreehorbury.com
SUMMARY:BEN ROBINSON-WRIGHT - LIVE BAND
DESCRIPTION:MORE LIVE MUSIC THIS FRIDAY! \nWith bands playing Friday and an acoustic session Saturday\, so make sure you come and join us if you love live music.
URL:https://thecherrytreehorbury.com/event/storm-live-band-3/
CATEGORIES:Live Band Music
END:VEVENT
BEGIN:VEVENT
DTSTART;TZID=Europe/London:20250704T193000
DTEND;TZID=Europe/London:20250704T220000
DTSTAMP:20260422T030330
CREATED:20250113T150425Z
LAST-MODIFIED:20250609T140532Z
UID:3935-1751657400-1751666400@thecherrytreehorbury.com
SUMMARY:SCOTT PHOENIX - LIVE BAND
DESCRIPTION:MORE LIVE MUSIC THIS FRIDAY! \nWith bands playing Friday and an acoustic session Saturday\, so make sure you come and join us if you love live music.
URL:https://thecherrytreehorbury.com/event/killing-time-live-band-2/
CATEGORIES:Live Band Music
END:VEVENT
BEGIN:VEVENT
DTSTART;TZID=Europe/London:20250711T200000
DTEND;TZID=Europe/London:20250711T220000
DTSTAMP:20260422T030330
CREATED:20250212T084549Z
LAST-MODIFIED:20250609T140758Z
UID:4116-1752264000-1752271200@thecherrytreehorbury.com
SUMMARY:MEGAN BLACKBURN - Live Band
DESCRIPTION:MORE LIVE MUSIC THIS FRIDAY! \nWith bands playing Friday and an acoustic session Saturday\, so make sure you come and join us between 20:00 – 22:00 if you love live music.
URL:https://thecherrytreehorbury.com/event/audio-cortez-live-band/
CATEGORIES:Live Band Music
END:VEVENT
BEGIN:VEVENT
DTSTART;TZID=Europe/London:20250718T200000
DTEND;TZID=Europe/London:20250718T220000
DTSTAMP:20260422T030330
CREATED:20250212T084742Z
LAST-MODIFIED:20250609T140939Z
UID:4120-1752868800-1752876000@thecherrytreehorbury.com
SUMMARY:LIAM SULLIVAN - Live Band
DESCRIPTION:MORE LIVE MUSIC THIS FRIDAY! \nWith bands playing Friday and an acoustic session Saturday\, so make sure you come and join us between 20:00 – 22:00 if you love live music.
URL:https://thecherrytreehorbury.com/event/liam-sullivan-live-band-4/
CATEGORIES:Live Band Music
END:VEVENT
BEGIN:VEVENT
DTSTART;TZID=Europe/London:20250725T200000
DTEND;TZID=Europe/London:20250725T220000
DTSTAMP:20260422T030330
CREATED:20250414T091050Z
LAST-MODIFIED:20250609T141146Z
UID:4281-1753473600-1753480800@thecherrytreehorbury.com
SUMMARY:PHIL SWALE - LIVE BAND
DESCRIPTION:MORE LIVE MUSIC THIS FRIDAY! \nWith bands playing Friday and an acoustic session Saturday\, so make sure you come and join us between 20:00 – 22:00 if you love live music.
URL:https://thecherrytreehorbury.com/event/coanda-effect-live-band-4/
CATEGORIES:Live Band Music
END:VEVENT
BEGIN:VEVENT
DTSTART;TZID=Europe/London:20250801T200000
DTEND;TZID=Europe/London:20250801T220000
DTSTAMP:20260422T030330
CREATED:20250212T085015Z
LAST-MODIFIED:20250609T141321Z
UID:4126-1754078400-1754085600@thecherrytreehorbury.com
SUMMARY:DEAN FINELLI - Live Band
DESCRIPTION:MORE LIVE MUSIC THIS FRIDAY! \nWith bands playing Friday and an acoustic session Saturday\, so make sure you come and join us between 20:00 – 22:00 if you love live music.
URL:https://thecherrytreehorbury.com/event/rewind-live-band-4/
CATEGORIES:Live Band Music
END:VEVENT
BEGIN:VEVENT
DTSTART;TZID=Europe/London:20250808T200000
DTEND;TZID=Europe/London:20250808T220000
DTSTAMP:20260422T030330
CREATED:20250212T085128Z
LAST-MODIFIED:20250609T141455Z
UID:4130-1754683200-1754690400@thecherrytreehorbury.com
SUMMARY:Undergroove - Live Band
DESCRIPTION:MORE LIVE MUSIC THIS FRIDAY! \nWith bands playing Friday and an acoustic session Saturday\, so make sure you come and join us between 20:00 – 22:00 if you love live music.
URL:https://thecherrytreehorbury.com/event/pac-band-live-band-5/
CATEGORIES:Live Band Music
END:VEVENT
BEGIN:VEVENT
DTSTART;TZID=Europe/London:20250815T200000
DTEND;TZID=Europe/London:20250815T220000
DTSTAMP:20260422T030330
CREATED:20250609T141547Z
LAST-MODIFIED:20250609T141547Z
UID:4329-1755288000-1755295200@thecherrytreehorbury.com
SUMMARY:MICKY DUO - LIVE BAND
DESCRIPTION:MORE LIVE MUSIC THIS FRIDAY! \nWith bands playing Friday and an acoustic session Saturday\, so make sure you come and join us between 20:00 – 22:00 if you love live music.
URL:https://thecherrytreehorbury.com/event/micky-duo-live-band-2/
CATEGORIES:Live Band Music
END:VEVENT
BEGIN:VEVENT
DTSTART;TZID=Europe/London:20250822T200000
DTEND;TZID=Europe/London:20250822T220000
DTSTAMP:20260422T030330
CREATED:20250212T090934Z
LAST-MODIFIED:20250212T090934Z
UID:4164-1755892800-1755900000@thecherrytreehorbury.com
SUMMARY:Tom Silcox & Chris - Live Band
DESCRIPTION:MORE LIVE MUSIC THIS FRIDAY! \nWith bands playing Friday and an acoustic session Saturday\, so make sure you come and join us between 20:00 – 22:00 if you love live music.
URL:https://thecherrytreehorbury.com/event/tom-silcox-chris-live-band/
CATEGORIES:Live Band Music
END:VEVENT
BEGIN:VEVENT
DTSTART;TZID=Europe/London:20250829T200000
DTEND;TZID=Europe/London:20250829T220000
DTSTAMP:20260422T030330
CREATED:20250212T085349Z
LAST-MODIFIED:20250819T065010Z
UID:4136-1756497600-1756504800@thecherrytreehorbury.com
SUMMARY:Broken Amps- Live Band
DESCRIPTION:MORE LIVE MUSIC THIS FRIDAY! \nWith bands playing Friday and an acoustic session Saturday\, so make sure you come and join us between 20:00 – 22:00 if you love live music.
URL:https://thecherrytreehorbury.com/event/the-civilians-live-band-4/
CATEGORIES:Live Band Music
END:VEVENT
BEGIN:VEVENT
DTSTART;TZID=Europe/London:20250905T200000
DTEND;TZID=Europe/London:20250905T220000
DTSTAMP:20260422T030330
CREATED:20250305T132349Z
LAST-MODIFIED:20250305T132349Z
UID:4221-1757102400-1757109600@thecherrytreehorbury.com
SUMMARY:Skinny Living - Live Band
DESCRIPTION:MORE LIVE MUSIC THIS FRIDAY! \nWith bands playing Friday and an acoustic session Saturday\, so make sure you come and join us between 20:00 – 22:00 if you love live music.
URL:https://thecherrytreehorbury.com/event/skinny-living-live-band/
CATEGORIES:Live Band Music
END:VEVENT
BEGIN:VEVENT
DTSTART;TZID=Europe/London:20250912T200000
DTEND;TZID=Europe/London:20250912T220000
DTSTAMP:20260422T030330
CREATED:20250828T095527Z
LAST-MODIFIED:20250828T095527Z
UID:4347-1757707200-1757714400@thecherrytreehorbury.com
SUMMARY:Ethan Booth - Live Musician
DESCRIPTION:MORE LIVE MUSIC THIS FRIDAY! \nWith bands playing Friday and an acoustic session Saturday\, so make sure you come and join us between 20:00 – 22:00 if you love live music.
URL:https://thecherrytreehorbury.com/event/ethan-booth-live-musician/
CATEGORIES:Live Band Music
END:VEVENT
BEGIN:VEVENT
DTSTART;TZID=Europe/London:20250919T190000
DTEND;TZID=Europe/London:20250919T220000
DTSTAMP:20260422T030330
CREATED:20250113T150813Z
LAST-MODIFIED:20250113T150813Z
UID:3946-1758308400-1758319200@thecherrytreehorbury.com
SUMMARY:RETRO REVIVAL - LIVE BAND
DESCRIPTION:MORE LIVE MUSIC THIS FRIDAY! \nWith bands playing Friday and an acoustic session Saturday\, so make sure you come and join us if you love live music.
URL:https://thecherrytreehorbury.com/event/retro-revival-live-band/
CATEGORIES:Live Band Music
END:VEVENT
BEGIN:VEVENT
DTSTART;TZID=Europe/London:20250926T200000
DTEND;TZID=Europe/London:20250926T220000
DTSTAMP:20260422T030330
CREATED:20250212T090138Z
LAST-MODIFIED:20250912T073443Z
UID:4150-1758916800-1758924000@thecherrytreehorbury.com
SUMMARY:Rikki Sephton - Live Band
DESCRIPTION:MORE LIVE MUSIC THIS FRIDAY! \nWith bands playing Friday and an acoustic session Saturday\, so make sure you come and join us between 20:00 – 22:00 if you love live music.
URL:https://thecherrytreehorbury.com/event/coanda-effect-live-band-3/
CATEGORIES:Live Band Music
END:VEVENT
BEGIN:VEVENT
DTSTART;TZID=Europe/London:20251003T200000
DTEND;TZID=Europe/London:20251003T220000
DTSTAMP:20260422T030330
CREATED:20250912T073654Z
LAST-MODIFIED:20250912T073654Z
UID:4359-1759521600-1759528800@thecherrytreehorbury.com
SUMMARY:Steven Lindsay - Live Music
DESCRIPTION:MORE LIVE MUSIC THIS FRIDAY! \nWith bands playing Friday and an acoustic session Saturday\, so make sure you come and join us between 20:00 – 22:00 if you love live music.
URL:https://thecherrytreehorbury.com/event/steven-lindsay-live-music/
CATEGORIES:Live Band Music
END:VEVENT
BEGIN:VEVENT
DTSTART;TZID=Europe/London:20251024T200000
DTEND;TZID=Europe/London:20251024T220000
DTSTAMP:20260422T030330
CREATED:20251015T073954Z
LAST-MODIFIED:20251015T073954Z
UID:4379-1761336000-1761343200@thecherrytreehorbury.com
SUMMARY:Abbie Ruth - Live Music
DESCRIPTION:MORE LIVE MUSIC THIS FRIDAY! \nWith bands playing Friday and an acoustic session Saturday\, so make sure you come and join us between 20:00 – 22:00 if you love live music.
URL:https://thecherrytreehorbury.com/event/abbie-ruth-live-music/
CATEGORIES:Live Band Music
END:VEVENT
BEGIN:VEVENT
DTSTART;TZID=Europe/London:20251031T200000
DTEND;TZID=Europe/London:20251031T220000
DTSTAMP:20260422T030330
CREATED:20251015T074231Z
LAST-MODIFIED:20251015T074304Z
UID:4385-1761940800-1761948000@thecherrytreehorbury.com
SUMMARY:Lia Stephan - Live Music
DESCRIPTION:MORE LIVE MUSIC THIS FRIDAY! \nWith Live Music playing Friday and an acoustic session Saturday\, so make sure you come and join us between 20:00 – 22:00 if you love live music.
URL:https://thecherrytreehorbury.com/event/lia-stephen-live-music/
CATEGORIES:Live Band Music
END:VEVENT
BEGIN:VEVENT
DTSTART;TZID=Europe/London:20251107T190000
DTEND;TZID=Europe/London:20251107T220000
DTSTAMP:20260422T030330
CREATED:20250113T150856Z
LAST-MODIFIED:20251030T093606Z
UID:3948-1762542000-1762552800@thecherrytreehorbury.com
SUMMARY:Beth Goldthorpe - Live Music
DESCRIPTION:MORE LIVE MUSIC THIS FRIDAY! \nWith bands playing Friday and an acoustic session Saturday\, so make sure you come and join us if you love live music.
URL:https://thecherrytreehorbury.com/event/pac-band-live-band-4/
CATEGORIES:Live Band Music
END:VEVENT
BEGIN:VEVENT
DTSTART;TZID=Europe/London:20251108T193000
DTEND;TZID=Europe/London:20251108T213000
DTSTAMP:20260422T030330
CREATED:20251015T074608Z
LAST-MODIFIED:20251015T074608Z
UID:4393-1762630200-1762637400@thecherrytreehorbury.com
SUMMARY:Steven Lindsay - Live Music
DESCRIPTION:MORE ACOUSTIC MUSIC LIVE THIS SATURDAY! \nThe live music is set to start from around 7:30pm and carry on until 9:30pm. So make sure you join us for some fantastic acoustic music!
URL:https://thecherrytreehorbury.com/event/steven-lindsay-live-music-2/
CATEGORIES:Live Band Music
END:VEVENT
BEGIN:VEVENT
DTSTART;TZID=Europe/London:20251114T190000
DTEND;TZID=Europe/London:20251114T220000
DTSTAMP:20260422T030330
CREATED:20250113T151006Z
LAST-MODIFIED:20251015T074747Z
UID:3951-1763146800-1763157600@thecherrytreehorbury.com
SUMMARY:Charlotte Branson - Live Music
DESCRIPTION:MORE LIVE MUSIC THIS FRIDAY! \nWith bands playing Friday and an acoustic session Saturday\, so make sure you come and join us if you love live music.
URL:https://thecherrytreehorbury.com/event/killing-time-live-band-3/
CATEGORIES:Live Band Music
END:VEVENT
BEGIN:VEVENT
DTSTART;TZID=Europe/London:20251121T193000
DTEND;TZID=Europe/London:20251121T213000
DTSTAMP:20260422T030330
CREATED:20251015T075120Z
LAST-MODIFIED:20251015T075120Z
UID:4403-1763753400-1763760600@thecherrytreehorbury.com
SUMMARY:Undergroove - Live Music
DESCRIPTION:MORE LIVE MUSIC THIS FRIDAY! \nWith Live Music playing Friday and an acoustic session Saturday\, so make sure you come and join us between 20:00 – 22:00 if you love live music.
URL:https://thecherrytreehorbury.com/event/undergroove-live-music/
CATEGORIES:Live Band Music
END:VEVENT
BEGIN:VEVENT
DTSTART;TZID=Europe/London:20251128T200000
DTEND;TZID=Europe/London:20251128T220000
DTSTAMP:20260422T030330
CREATED:20251015T075334Z
LAST-MODIFIED:20251015T075334Z
UID:4409-1764360000-1764367200@thecherrytreehorbury.com
SUMMARY:Broken Amps - Live Music
DESCRIPTION:MORE LIVE MUSIC THIS FRIDAY! \nWith Live Music playing Friday and an acoustic session Saturday\, so make sure you come and join us between 20:00 – 22:00 if you love live music.
URL:https://thecherrytreehorbury.com/event/broken-amps-live-music/
CATEGORIES:Live Band Music
END:VEVENT
BEGIN:VEVENT
DTSTART;TZID=Europe/London:20251205T200000
DTEND;TZID=Europe/London:20251205T220000
DTSTAMP:20260422T030330
CREATED:20251112T095913Z
LAST-MODIFIED:20251112T095913Z
UID:4456-1764964800-1764972000@thecherrytreehorbury.com
SUMMARY:Rhys Aliker - Live Music
DESCRIPTION:MORE LIVE MUSIC THIS FRIDAY! \nWith Live Music playing Friday and an acoustic session Saturday\, so make sure you come and join us between 20:00 – 22:00 if you love live music.
URL:https://thecherrytreehorbury.com/event/rhys-aliker-live-music/
CATEGORIES:Live Band Music
END:VEVENT
BEGIN:VEVENT
DTSTART;TZID=Europe/London:20251206T193000
DTEND;TZID=Europe/London:20251206T213000
DTSTAMP:20260422T030330
CREATED:20251103T142654Z
LAST-MODIFIED:20251103T142706Z
UID:4423-1765049400-1765056600@thecherrytreehorbury.com
SUMMARY:Freddie Chapman - Live Music
DESCRIPTION:MORE ACOUSTIC MUSIC LIVE THIS SATURDAY! \nThe live music is set to start from around 7:30pm and carry on until 9:30pm. So make sure you join us for some fantastic acoustic music!
URL:https://thecherrytreehorbury.com/event/freddie-chapman/
CATEGORIES:Live Band Music
END:VEVENT
BEGIN:VEVENT
DTSTART;TZID=Europe/London:20251212T200000
DTEND;TZID=Europe/London:20251212T220000
DTSTAMP:20260422T030330
CREATED:20251103T142905Z
LAST-MODIFIED:20251103T142905Z
UID:4428-1765569600-1765576800@thecherrytreehorbury.com
SUMMARY:Mila Jasmine - Live Music
DESCRIPTION:MORE LIVE MUSIC THIS FRIDAY! \nWith Live Music playing Friday and an acoustic session Saturday\, so make sure you come and join us between 20:00 – 22:00 if you love live music.
URL:https://thecherrytreehorbury.com/event/mila-jasmine-live-music/
CATEGORIES:Live Band Music
END:VEVENT
BEGIN:VEVENT
DTSTART;TZID=Europe/London:20251219T200000
DTEND;TZID=Europe/London:20251219T220000
DTSTAMP:20260422T030330
CREATED:20251103T143136Z
LAST-MODIFIED:20251103T143136Z
UID:4433-1766174400-1766181600@thecherrytreehorbury.com
SUMMARY:Last Minute Duo - Live Music
DESCRIPTION:MORE LIVE MUSIC THIS FRIDAY! \nWith Live Music playing Friday and an acoustic session Saturday\, so make sure you come and join us between 20:00 – 22:00 if you love live music.
URL:https://thecherrytreehorbury.com/event/last-minute-duo-live-music/
CATEGORIES:Live Band Music
END:VEVENT
BEGIN:VEVENT
DTSTART;TZID=Europe/London:20251220T193000
DTEND;TZID=Europe/London:20251220T213000
DTSTAMP:20260422T030330
CREATED:20251103T143220Z
LAST-MODIFIED:20251103T143220Z
UID:4435-1766259000-1766266200@thecherrytreehorbury.com
SUMMARY:James Thompson - Live Music
DESCRIPTION:MORE ACOUSTIC MUSIC LIVE THIS SATURDAY! \nThe live music is set to start from around 7:30pm and carry on until 9:30pm. So make sure you join us for some fantastic acoustic music!
URL:https://thecherrytreehorbury.com/event/james-thompson-live-music/
CATEGORIES:Live Band Music
END:VEVENT
BEGIN:VEVENT
DTSTART;TZID=Europe/London:20251226T200000
DTEND;TZID=Europe/London:20251226T220000
DTSTAMP:20260422T030330
CREATED:20251103T143502Z
LAST-MODIFIED:20251103T143502Z
UID:4439-1766779200-1766786400@thecherrytreehorbury.com
SUMMARY:Jon Matthews - Live Music
DESCRIPTION:MORE LIVE MUSIC THIS FRIDAY! \nWith Live Music playing Friday and an acoustic session Saturday\, so make sure you come and join us between 20:00 – 22:00 if you love live music.
URL:https://thecherrytreehorbury.com/event/jon-matthews-live-music/
CATEGORIES:Live Band Music
END:VEVENT
END:VCALENDAR