BEGIN:VCALENDAR
VERSION:2.0
PRODID:-//Cherry Tree Horbury - ECPv6.15.0.1//NONSGML v1.0//EN
CALSCALE:GREGORIAN
METHOD:PUBLISH
X-ORIGINAL-URL:https://thecherrytreehorbury.com
X-WR-CALDESC:Events for Cherry Tree Horbury
REFRESH-INTERVAL;VALUE=DURATION:PT1H
X-Robots-Tag:noindex
X-PUBLISHED-TTL:PT1H
BEGIN:VTIMEZONE
TZID:Europe/London
BEGIN:DAYLIGHT
TZOFFSETFROM:+0000
TZOFFSETTO:+0100
TZNAME:BST
DTSTART:20240331T010000
END:DAYLIGHT
BEGIN:STANDARD
TZOFFSETFROM:+0100
TZOFFSETTO:+0000
TZNAME:GMT
DTSTART:20241027T010000
END:STANDARD
END:VTIMEZONE
BEGIN:VEVENT
DTSTART;TZID=Europe/London:20240614T193000
DTEND;TZID=Europe/London:20240614T220000
DTSTAMP:20260422T102859
CREATED:20240515T134738Z
LAST-MODIFIED:20240515T134738Z
UID:3573-1718393400-1718402400@thecherrytreehorbury.com
SUMMARY:STORM - Live Band
DESCRIPTION:LIVE MUSIC FROM STORM! \nWith bands playing Friday and an acoustic session Saturday\, so make sure you come and join us if you love live music.
URL:https://thecherrytreehorbury.com/event/storm-live-band/
CATEGORIES:Live Band Music
END:VEVENT
BEGIN:VEVENT
DTSTART;TZID=Europe/London:20240621T193000
DTEND;TZID=Europe/London:20240621T220000
DTSTAMP:20260422T102859
CREATED:20240515T135118Z
LAST-MODIFIED:20240515T135118Z
UID:3577-1718998200-1719007200@thecherrytreehorbury.com
SUMMARY:Audio Cartel - Live Band
DESCRIPTION:LIVE MUSIC FROM AUDIO CARTEL! \nWith bands playing Friday and an acoustic session Saturday\, so make sure you come and join us if you love live music.
URL:https://thecherrytreehorbury.com/event/audio-cartel-live-band/
CATEGORIES:Live Band Music
END:VEVENT
BEGIN:VEVENT
DTSTART;TZID=Europe/London:20240628T193000
DTEND;TZID=Europe/London:20240628T220000
DTSTAMP:20260422T102859
CREATED:20240515T135247Z
LAST-MODIFIED:20240515T135247Z
UID:3581-1719603000-1719612000@thecherrytreehorbury.com
SUMMARY:Black Bear Bones - Live Band
DESCRIPTION:LIVE MUSIC FROM BLACK BEAR BONES! \nWith bands playing Friday and an acoustic session Saturday\, so make sure you come and join us if you love live music.
URL:https://thecherrytreehorbury.com/event/black-bear-bones-live-band-2/
CATEGORIES:Live Band Music
END:VEVENT
END:VCALENDAR