BEGIN:VCALENDAR
VERSION:2.0
PRODID:-//Cherry Tree Horbury - ECPv6.15.0.1//NONSGML v1.0//EN
CALSCALE:GREGORIAN
METHOD:PUBLISH
X-ORIGINAL-URL:https://thecherrytreehorbury.com
X-WR-CALDESC:Events for Cherry Tree Horbury
REFRESH-INTERVAL;VALUE=DURATION:PT1H
X-Robots-Tag:noindex
X-PUBLISHED-TTL:PT1H
BEGIN:VTIMEZONE
TZID:Europe/London
BEGIN:DAYLIGHT
TZOFFSETFROM:+0000
TZOFFSETTO:+0100
TZNAME:BST
DTSTART:20240331T010000
END:DAYLIGHT
BEGIN:STANDARD
TZOFFSETFROM:+0100
TZOFFSETTO:+0000
TZNAME:GMT
DTSTART:20241027T010000
END:STANDARD
END:VTIMEZONE
BEGIN:VEVENT
DTSTART;TZID=Europe/London:20240301T193000
DTEND;TZID=Europe/London:20240301T220000
DTSTAMP:20260422T145840
CREATED:20240116T152555Z
LAST-MODIFIED:20240116T153732Z
UID:3069-1709321400-1709330400@thecherrytreehorbury.com
SUMMARY:Audio Cartel - Live Band
DESCRIPTION:LIVE MUSIC FROM AUDIO CARTEL! \nAll through Winter we will have live music every week\, with bands playing Friday and an acoustic session Saturday\, so make sure you come and join us if you love live music.
URL:https://thecherrytreehorbury.com/event/audio-cartel/
CATEGORIES:Live Band Music
END:VEVENT
BEGIN:VEVENT
DTSTART;TZID=Europe/London:20240308T193000
DTEND;TZID=Europe/London:20240308T220000
DTSTAMP:20260422T145840
CREATED:20240118T131338Z
LAST-MODIFIED:20240118T131338Z
UID:3188-1709926200-1709935200@thecherrytreehorbury.com
SUMMARY:4PlayQuo - Live Band
DESCRIPTION:LIVE MUSIC FROM PLAY4QUO! \nAll through Winter we will have live music every week\, with bands playing Friday and an acoustic session Saturday\, so make sure you come and join us if you love live music.
URL:https://thecherrytreehorbury.com/event/4playquo-live-band/
CATEGORIES:Live Band Music
END:VEVENT
BEGIN:VEVENT
DTSTART;TZID=Europe/London:20240315T193000
DTEND;TZID=Europe/London:20240315T220000
DTSTAMP:20260422T145840
CREATED:20240118T131541Z
LAST-MODIFIED:20240118T131541Z
UID:3192-1710531000-1710540000@thecherrytreehorbury.com
SUMMARY:Altamont - Live Band
DESCRIPTION:LIVE MUSIC FROM ALTAMONT! \nAll through Winter we will have live music every week\, with bands playing Friday and an acoustic session Saturday\, so make sure you come and join us if you love live music.
URL:https://thecherrytreehorbury.com/event/altamont-live-band/
CATEGORIES:Live Band Music
END:VEVENT
BEGIN:VEVENT
DTSTART;TZID=Europe/London:20240322T193000
DTEND;TZID=Europe/London:20240322T220000
DTSTAMP:20260422T145840
CREATED:20240118T131711Z
LAST-MODIFIED:20240118T131711Z
UID:3196-1711135800-1711144800@thecherrytreehorbury.com
SUMMARY:Pac Ban - Live Band
DESCRIPTION:LIVE MUSIC FROM PAC BAN! \nAll through Winter we will have live music every week\, with bands playing Friday and an acoustic session Saturday\, so make sure you come and join us if you love live music.
URL:https://thecherrytreehorbury.com/event/pac-ban-live-band/
CATEGORIES:Live Band Music
END:VEVENT
BEGIN:VEVENT
DTSTART;TZID=Europe/London:20240329T193000
DTEND;TZID=Europe/London:20240329T220000
DTSTAMP:20260422T145840
CREATED:20240118T131839Z
LAST-MODIFIED:20240118T131839Z
UID:3200-1711740600-1711749600@thecherrytreehorbury.com
SUMMARY:The Civilians - Live Band
DESCRIPTION:LIVE MUSIC FROM THE CIVILIANS! \nAll through Winter we will have live music every week\, with bands playing Friday and an acoustic session Saturday\, so make sure you come and join us if you love live music.
URL:https://thecherrytreehorbury.com/event/the-civilians-live-band/
CATEGORIES:Live Band Music
END:VEVENT
END:VCALENDAR