BEGIN:VCALENDAR
VERSION:2.0
PRODID:-//Cherry Tree Horbury - ECPv6.15.0.1//NONSGML v1.0//EN
CALSCALE:GREGORIAN
METHOD:PUBLISH
X-WR-CALNAME:Cherry Tree Horbury
X-ORIGINAL-URL:https://thecherrytreehorbury.com
X-WR-CALDESC:Events for Cherry Tree Horbury
REFRESH-INTERVAL;VALUE=DURATION:PT1H
X-Robots-Tag:noindex
X-PUBLISHED-TTL:PT1H
BEGIN:VTIMEZONE
TZID:Europe/London
BEGIN:DAYLIGHT
TZOFFSETFROM:+0000
TZOFFSETTO:+0100
TZNAME:BST
DTSTART:20240331T010000
END:DAYLIGHT
BEGIN:STANDARD
TZOFFSETFROM:+0100
TZOFFSETTO:+0000
TZNAME:GMT
DTSTART:20241027T010000
END:STANDARD
END:VTIMEZONE
BEGIN:VEVENT
DTSTART;TZID=Europe/London:20240202T193000
DTEND;TZID=Europe/London:20240202T220000
DTSTAMP:20260422T163412
CREATED:20240116T145511Z
LAST-MODIFIED:20240116T153930Z
UID:3037-1706902200-1706911200@thecherrytreehorbury.com
SUMMARY:Welsh T - Live Band
DESCRIPTION:LIVE MUSIC THIS FRIDAY FROM WELSH T! \nThe live music is due to start from 7:30pm. All through Winter we will have live music every week\, with bands playing Friday and an acoustic session Saturday\, so make sure you come and join us if you love live music.
URL:https://thecherrytreehorbury.com/event/welsh-t/
CATEGORIES:Live Band Music
END:VEVENT
BEGIN:VEVENT
DTSTART;TZID=Europe/London:20240209T193000
DTEND;TZID=Europe/London:20240209T200000
DTSTAMP:20260422T163412
CREATED:20240116T150007Z
LAST-MODIFIED:20240116T153920Z
UID:3042-1707507000-1707508800@thecherrytreehorbury.com
SUMMARY:STORM - Live Band
DESCRIPTION:LIVE MUSIC THIS FRIDAY FROM STORM! \nThe live music is due to start from 7:30pm. All through Winter we will have live music every week\, with bands playing Friday and an acoustic session Saturday\, so make sure you come and join us if you love live music.
URL:https://thecherrytreehorbury.com/event/storm/
CATEGORIES:Live Band Music
END:VEVENT
BEGIN:VEVENT
DTSTART;TZID=Europe/London:20240216T193000
DTEND;TZID=Europe/London:20240216T220000
DTSTAMP:20260422T163412
CREATED:20240116T151846Z
LAST-MODIFIED:20240116T153909Z
UID:3059-1708111800-1708120800@thecherrytreehorbury.com
SUMMARY:Becky & The Rakiteers - Live Band
DESCRIPTION:LIVE MUSIC FROM BECKY & THE RAKITEERS! \nAll through Winter we will have live music every week\, with bands playing Friday and an acoustic session Saturday\, so make sure you come and join us if you love live music.
URL:https://thecherrytreehorbury.com/event/becky-the-rakiteers/
CATEGORIES:Live Band Music
END:VEVENT
BEGIN:VEVENT
DTSTART;TZID=Europe/London:20240223T193000
DTEND;TZID=Europe/London:20240223T220000
DTSTAMP:20260422T163412
CREATED:20240116T152114Z
LAST-MODIFIED:20240116T153830Z
UID:3063-1708716600-1708725600@thecherrytreehorbury.com
SUMMARY:Wired - Live Band
DESCRIPTION:LIVE MUSIC FROM WIRED! \nAll through Winter we will have live music every week\, with bands playing Friday and an acoustic session Saturday\, so make sure you come and join us if you love live music.
URL:https://thecherrytreehorbury.com/event/wired/
CATEGORIES:Live Band Music
END:VEVENT
END:VCALENDAR